BEGIN:VCALENDAR
VERSION:2.0
PRODID:-//Scuola dell&#039;Infanzia S. Maria Goretti Torino | Materna Goretti - ECPv6.15.12.2//NONSGML v1.0//EN
CALSCALE:GREGORIAN
METHOD:PUBLISH
X-WR-CALNAME:Scuola dell&#039;Infanzia S. Maria Goretti Torino | Materna Goretti
X-ORIGINAL-URL:https://www.scuolainfanziagoretti.it
X-WR-CALDESC:Eventi per Scuola dell&#039;Infanzia S. Maria Goretti Torino | Materna Goretti
REFRESH-INTERVAL;VALUE=DURATION:PT1H
X-Robots-Tag:noindex
X-PUBLISHED-TTL:PT1H
BEGIN:VTIMEZONE
TZID:Europe/Rome
BEGIN:DAYLIGHT
TZOFFSETFROM:+0100
TZOFFSETTO:+0200
TZNAME:CEST
DTSTART:20220327T010000
END:DAYLIGHT
BEGIN:STANDARD
TZOFFSETFROM:+0200
TZOFFSETTO:+0100
TZNAME:CET
DTSTART:20221030T010000
END:STANDARD
BEGIN:DAYLIGHT
TZOFFSETFROM:+0100
TZOFFSETTO:+0200
TZNAME:CEST
DTSTART:20230326T010000
END:DAYLIGHT
BEGIN:STANDARD
TZOFFSETFROM:+0200
TZOFFSETTO:+0100
TZNAME:CET
DTSTART:20231029T010000
END:STANDARD
BEGIN:DAYLIGHT
TZOFFSETFROM:+0100
TZOFFSETTO:+0200
TZNAME:CEST
DTSTART:20240331T010000
END:DAYLIGHT
BEGIN:STANDARD
TZOFFSETFROM:+0200
TZOFFSETTO:+0100
TZNAME:CET
DTSTART:20241027T010000
END:STANDARD
BEGIN:DAYLIGHT
TZOFFSETFROM:+0100
TZOFFSETTO:+0200
TZNAME:CEST
DTSTART:20250330T010000
END:DAYLIGHT
BEGIN:STANDARD
TZOFFSETFROM:+0200
TZOFFSETTO:+0100
TZNAME:CET
DTSTART:20251026T010000
END:STANDARD
END:VTIMEZONE
BEGIN:VEVENT
DTSTART;VALUE=DATE:20240630
DTEND;VALUE=DATE:20240701
DTSTAMP:20260421T112945
CREATED:20230920T083409Z
LAST-MODIFIED:20230920T083409Z
UID:742-1719705600-1719791999@www.scuolainfanziagoretti.it
SUMMARY:Termine Attività
DESCRIPTION:(Proseguirà con la scuola estiva)
URL:https://www.scuolainfanziagoretti.it/evento/termine-attivita/
LOCATION:Santa Maria Goretti\, via Servais\, 135\, Torino\, Torino\, 10146
ORGANIZER;CN="Santa Maria Goretti":MAILTO:scuola.goretti@gmail.com
END:VEVENT
BEGIN:VEVENT
DTSTART;VALUE=DATE:20240624
DTEND;VALUE=DATE:20240625
DTSTAMP:20260421T112945
CREATED:20230920T085828Z
LAST-MODIFIED:20230920T085828Z
UID:762-1719187200-1719273599@www.scuolainfanziagoretti.it
SUMMARY:Sospensione Attività
DESCRIPTION:Festa del Santo Patrono
URL:https://www.scuolainfanziagoretti.it/evento/sospensione-attivita-6/
LOCATION:Santa Maria Goretti\, via Servais\, 135\, Torino\, Torino\, 10146
ORGANIZER;CN="Santa Maria Goretti":MAILTO:scuola.goretti@gmail.com
END:VEVENT
BEGIN:VEVENT
DTSTART;VALUE=DATE:20240602
DTEND;VALUE=DATE:20240603
DTSTAMP:20260421T112945
CREATED:20230920T085629Z
LAST-MODIFIED:20230920T085629Z
UID:760-1717286400-1717372799@www.scuolainfanziagoretti.it
SUMMARY:Sospensione Attività
DESCRIPTION:Festa della Repubblica
URL:https://www.scuolainfanziagoretti.it/evento/sospensione-attivita-5/
LOCATION:Santa Maria Goretti\, via Servais\, 135\, Torino\, Torino\, 10146
ORGANIZER;CN="Santa Maria Goretti":MAILTO:scuola.goretti@gmail.com
END:VEVENT
BEGIN:VEVENT
DTSTART;VALUE=DATE:20240501
DTEND;VALUE=DATE:20240502
DTSTAMP:20260421T112945
CREATED:20230920T085234Z
LAST-MODIFIED:20230920T085234Z
UID:758-1714521600-1714607999@www.scuolainfanziagoretti.it
SUMMARY:Sospensione Attività
DESCRIPTION:Festa del Lavoro
URL:https://www.scuolainfanziagoretti.it/evento/sospensione-attivita-4/
LOCATION:Santa Maria Goretti\, via Servais\, 135\, Torino\, Torino\, 10146
ORGANIZER;CN="Santa Maria Goretti":MAILTO:scuola.goretti@gmail.com
END:VEVENT
BEGIN:VEVENT
DTSTART;VALUE=DATE:20240425
DTEND;VALUE=DATE:20240427
DTSTAMP:20260421T112945
CREATED:20230920T085102Z
LAST-MODIFIED:20230920T090154Z
UID:756-1714003200-1714175999@www.scuolainfanziagoretti.it
SUMMARY:Sospensione Attività
DESCRIPTION:Liberazione
URL:https://www.scuolainfanziagoretti.it/evento/sospensione-attivita-3/
LOCATION:Santa Maria Goretti\, via Servais\, 135\, Torino\, Torino\, 10146
ORGANIZER;CN="Santa Maria Goretti":MAILTO:scuola.goretti@gmail.com
END:VEVENT
BEGIN:VEVENT
DTSTART;VALUE=DATE:20240328
DTEND;VALUE=DATE:20240403
DTSTAMP:20260421T112945
CREATED:20230920T084525Z
LAST-MODIFIED:20230920T084525Z
UID:749-1711584000-1712102399@www.scuolainfanziagoretti.it
SUMMARY:Vacanze Pasquali
DESCRIPTION:
URL:https://www.scuolainfanziagoretti.it/evento/vacanze-pasquali/
LOCATION:Santa Maria Goretti\, via Servais\, 135\, Torino\, Torino\, 10146
ORGANIZER;CN="Santa Maria Goretti":MAILTO:scuola.goretti@gmail.com
END:VEVENT
BEGIN:VEVENT
DTSTART;VALUE=DATE:20240212
DTEND;VALUE=DATE:20240214
DTSTAMP:20260421T112945
CREATED:20230920T084055Z
LAST-MODIFIED:20230920T084055Z
UID:746-1707696000-1707868799@www.scuolainfanziagoretti.it
SUMMARY:Vacanze di Carnevale
DESCRIPTION:
URL:https://www.scuolainfanziagoretti.it/evento/vacanze-di-carnevale/
LOCATION:Santa Maria Goretti\, via Servais\, 135\, Torino\, Torino\, 10146
ORGANIZER;CN="Santa Maria Goretti":MAILTO:scuola.goretti@gmail.com
END:VEVENT
BEGIN:VEVENT
DTSTART;VALUE=DATE:20231223
DTEND;VALUE=DATE:20240108
DTSTAMP:20260421T112945
CREATED:20230920T083636Z
LAST-MODIFIED:20230920T083809Z
UID:744-1703289600-1704671999@www.scuolainfanziagoretti.it
SUMMARY:Vacanze Natalizie
DESCRIPTION:
URL:https://www.scuolainfanziagoretti.it/evento/vacanze-natalizie/
LOCATION:Santa Maria Goretti\, via Servais\, 135\, Torino\, Torino\, 10146
ORGANIZER;CN="Santa Maria Goretti":MAILTO:scuola.goretti@gmail.com
END:VEVENT
BEGIN:VEVENT
DTSTART;VALUE=DATE:20231208
DTEND;VALUE=DATE:20231209
DTSTAMP:20260421T112945
CREATED:20230920T084833Z
LAST-MODIFIED:20230920T084833Z
UID:753-1701993600-1702079999@www.scuolainfanziagoretti.it
SUMMARY:Sospensione Attività
DESCRIPTION:Immacolata
URL:https://www.scuolainfanziagoretti.it/evento/sospensione-attivita-2/
LOCATION:Santa Maria Goretti\, via Servais\, 135\, Torino\, Torino\, 10146
ORGANIZER;CN="Santa Maria Goretti":MAILTO:scuola.goretti@gmail.com
END:VEVENT
BEGIN:VEVENT
DTSTART;VALUE=DATE:20231101
DTEND;VALUE=DATE:20231102
DTSTAMP:20260421T112945
CREATED:20230920T084726Z
LAST-MODIFIED:20230920T084726Z
UID:751-1698796800-1698883199@www.scuolainfanziagoretti.it
SUMMARY:Sospensione Attività
DESCRIPTION:Tutti i Santi
URL:https://www.scuolainfanziagoretti.it/evento/sospensione-attivita/
LOCATION:Santa Maria Goretti\, via Servais\, 135\, Torino\, Torino\, 10146
ORGANIZER;CN="Santa Maria Goretti":MAILTO:scuola.goretti@gmail.com
END:VEVENT
BEGIN:VEVENT
DTSTART;VALUE=DATE:20230911
DTEND;VALUE=DATE:20230912
DTSTAMP:20260421T112945
CREATED:20230920T082547Z
LAST-MODIFIED:20230920T082547Z
UID:740-1694390400-1694476799@www.scuolainfanziagoretti.it
SUMMARY:Inizio Attività
DESCRIPTION:
URL:https://www.scuolainfanziagoretti.it/evento/inizio-attivita-2/
LOCATION:Santa Maria Goretti\, via Servais\, 135\, Torino\, Torino\, 10146
ORGANIZER;CN="Santa Maria Goretti":MAILTO:scuola.goretti@gmail.com
END:VEVENT
BEGIN:VEVENT
DTSTART;VALUE=DATE:20230906
DTEND;VALUE=DATE:20230907
DTSTAMP:20260421T112945
CREATED:20230920T082216Z
LAST-MODIFIED:20230920T082425Z
UID:737-1693958400-1694044799@www.scuolainfanziagoretti.it
SUMMARY:Inserimento
DESCRIPTION:
URL:https://www.scuolainfanziagoretti.it/evento/inizio-attivita/
LOCATION:Torino
ORGANIZER;CN="Santa Maria Goretti":MAILTO:scuola.goretti@gmail.com
END:VEVENT
END:VCALENDAR